BEGIN:VCALENDAR
VERSION:2.0
PRODID:-//Stefan Schwarz - ECPv6.15.20//NONSGML v1.0//EN
CALSCALE:GREGORIAN
METHOD:PUBLISH
X-WR-CALNAME:Stefan Schwarz
X-ORIGINAL-URL:https://schwarzleser.de
X-WR-CALDESC:Veranstaltungen für Stefan Schwarz
REFRESH-INTERVAL;VALUE=DURATION:PT1H
X-Robots-Tag:noindex
X-PUBLISHED-TTL:PT1H
BEGIN:VTIMEZONE
TZID:Europe/Helsinki
BEGIN:DAYLIGHT
TZOFFSETFROM:+0200
TZOFFSETTO:+0300
TZNAME:EEST
DTSTART:20250330T010000
END:DAYLIGHT
BEGIN:STANDARD
TZOFFSETFROM:+0300
TZOFFSETTO:+0200
TZNAME:EET
DTSTART:20251026T010000
END:STANDARD
BEGIN:DAYLIGHT
TZOFFSETFROM:+0200
TZOFFSETTO:+0300
TZNAME:EEST
DTSTART:20260329T010000
END:DAYLIGHT
BEGIN:STANDARD
TZOFFSETFROM:+0300
TZOFFSETTO:+0200
TZNAME:EET
DTSTART:20261025T010000
END:STANDARD
BEGIN:DAYLIGHT
TZOFFSETFROM:+0200
TZOFFSETTO:+0300
TZNAME:EEST
DTSTART:20270328T010000
END:DAYLIGHT
BEGIN:STANDARD
TZOFFSETFROM:+0300
TZOFFSETTO:+0200
TZNAME:EET
DTSTART:20271031T010000
END:STANDARD
END:VTIMEZONE
BEGIN:VEVENT
DTSTART;TZID=Europe/Helsinki:20260305T200000
DTEND;TZID=Europe/Helsinki:20260305T213000
DTSTAMP:20260423T223237
CREATED:20250925T082158Z
LAST-MODIFIED:20250925T082158Z
UID:91671-1772740800-1772746200@schwarzleser.de
SUMMARY:Fiese Viecher - Der kleine Gartenversager Teil 2
DESCRIPTION:Garten könnte so schön sein. Doch statt die Ruhe im Grünen zu genießen\, muss der kleine Gartenversager zusehen\, wie Spanische Wegschnecken\, Drüsiges Springkraut\, Chinesische Stinkwanzen und Kanadische Goldrute seine Kleingartenparzelle erobern und ihm die Ernte streitig machen. Tapfer sagt er Monsterpflanzen und Mistviechern den Kampf an\, doch die unliebsamen Besucher denken gar nicht daran\, das Feld zu räumen.\nStefan Schwarz erzählt unterhaltsam von den tierischen und pflanzlichen blinden Passagieren des globalen Warenverkehrs\, ihren Schrullen und bewundernswerten Kräften. Das ultimative Trostbuch für alle\, deren Gärten auch schon überwuchert und kahl gefressen wurden.
URL:https://schwarzleser.de/termin/fiese-viecher-der-kleine-gartenversager-teil-2-14/
LOCATION:Freiberg TIVOLI\, Dr.-Külz-Straße 3\, Freiberg\, 09599
END:VEVENT
BEGIN:VEVENT
DTSTART;TZID=Europe/Helsinki:20260310T193000
DTEND;TZID=Europe/Helsinki:20260310T213000
DTSTAMP:20260423T223237
CREATED:20250925T082837Z
LAST-MODIFIED:20250925T083010Z
UID:91674-1773171000-1773178200@schwarzleser.de
SUMMARY:Fiese Viecher - Der kleine Gartenversager Teil 2
DESCRIPTION:Garten könnte so schön sein. Doch statt die Ruhe im Grünen zu genießen\, muss der kleine Gartenversager zusehen\, wie Spanische Wegschnecken\, Drüsiges Springkraut\, Chinesische Stinkwanzen und Kanadische Goldrute seine Kleingartenparzelle erobern und ihm die Ernte streitig machen. Tapfer sagt er Monsterpflanzen und Mistviechern den Kampf an\, doch die unliebsamen Besucher denken gar nicht daran\, das Feld zu räumen.\nStefan Schwarz erzählt unterhaltsam von den tierischen und pflanzlichen blinden Passagieren des globalen Warenverkehrs\, ihren Schrullen und bewundernswerten Kräften. Das ultimative Trostbuch für alle\, deren Gärten auch schon überwuchert und kahl gefressen wurden.
URL:https://schwarzleser.de/termin/fiese-viecher-der-kleine-gartenversager-teil-2-16/
LOCATION:Stadtbibliothek Ilmenau\, Bahnhofstraße 7\, Ilmenau\, 98693
END:VEVENT
END:VCALENDAR