BEGIN:VCALENDAR
VERSION:2.0
PRODID:-//Stefan Schwarz - ECPv6.15.20//NONSGML v1.0//EN
CALSCALE:GREGORIAN
METHOD:PUBLISH
X-WR-CALNAME:Stefan Schwarz
X-ORIGINAL-URL:https://schwarzleser.de
X-WR-CALDESC:Veranstaltungen für Stefan Schwarz
REFRESH-INTERVAL;VALUE=DURATION:PT1H
X-Robots-Tag:noindex
X-PUBLISHED-TTL:PT1H
BEGIN:VTIMEZONE
TZID:Europe/Helsinki
BEGIN:DAYLIGHT
TZOFFSETFROM:+0200
TZOFFSETTO:+0300
TZNAME:EEST
DTSTART:20250330T010000
END:DAYLIGHT
BEGIN:STANDARD
TZOFFSETFROM:+0300
TZOFFSETTO:+0200
TZNAME:EET
DTSTART:20251026T010000
END:STANDARD
BEGIN:DAYLIGHT
TZOFFSETFROM:+0200
TZOFFSETTO:+0300
TZNAME:EEST
DTSTART:20260329T010000
END:DAYLIGHT
BEGIN:STANDARD
TZOFFSETFROM:+0300
TZOFFSETTO:+0200
TZNAME:EET
DTSTART:20261025T010000
END:STANDARD
BEGIN:DAYLIGHT
TZOFFSETFROM:+0200
TZOFFSETTO:+0300
TZNAME:EEST
DTSTART:20270328T010000
END:DAYLIGHT
BEGIN:STANDARD
TZOFFSETFROM:+0300
TZOFFSETTO:+0200
TZNAME:EET
DTSTART:20271031T010000
END:STANDARD
END:VTIMEZONE
BEGIN:VEVENT
DTSTART;TZID=Europe/Helsinki:20260422T193000
DTEND;TZID=Europe/Helsinki:20260422T210000
DTSTAMP:20260421T155026
CREATED:20260316T180400Z
LAST-MODIFIED:20260316T180400Z
UID:100042-1776886200-1776891600@schwarzleser.de
SUMMARY:Bis ins Mark – Wie ich Krebs bekam und mein Leben aufräumte
DESCRIPTION:Als Stefan Schwarz mit Mitte Fünfzig die Diagnose Krebs erhält\, ist er fast erleichtert. Jetzt muss sich der bekennende Hypochonder wenigstens nicht mehr fürchten\, ihn zu bekommen. Schwarz kennt sich aus mit existentiellen Verwerfungen\, und als ein Mann der Komik und Selbstironie\, begibt er sich mit diesem Buch nicht nur auf eine Reise durch die Sonderwelten der onkologischen Therapie\, sondern auch auf die Nachtseite seines Lebens\, um die Zwänge und Niederlagen zu besichtigen\, die seinen Humor hervorbrachten. Ein Buch voller heiterer Klarheit über die Dinge des Lebens\, eine Wegbeschreibung auch für Menschen in ähnlicher Lage\, von einem Geschichtenerzähler\, der sich selbst eine neue Geschichte erzählen muss\, um die Kraft zu finden\, sich und nicht zuletzt seine Familie in eine „heilsamere“ Welt zu bringen. \n„Wer ein ehrliches\, ziemlich cooles\, amüsantes\, berührendes\, manchmal sogar ergreifendes\, sehr gut geschriebenes und wirklich interessantes Buch darüber sucht\, wie jemand wie Stefan Schwarz eigentlich so unterwegs ist\, wenn es mal ans Eingemachte geht\, der sollte dieses Buch unbedingt lesen.“ Tom Liehr
URL:https://schwarzleser.de/termin/bis-ins-mark-wie-ich-krebs-bekam-und-mein-leben-aufraeumte-6/
LOCATION:F-Haus\, Johannisplatz 14\, Jena\, 07743
END:VEVENT
BEGIN:VEVENT
DTSTART;TZID=Europe/Helsinki:20260424T190000
DTEND;TZID=Europe/Helsinki:20260424T210000
DTSTAMP:20260421T155026
CREATED:20260316T181318Z
LAST-MODIFIED:20260316T181318Z
UID:100045-1777057200-1777064400@schwarzleser.de
SUMMARY:Fiese Viecher - Der kleine Gartenversager kehrt zurück!
DESCRIPTION:Garten könnte so schön sein. Doch statt die Ruhe im Grünen zu genießen\, muss der kleine Gartenversager zusehen\, wie Spanische Wegschnecken\, Drüsiges Springkraut\, Chinesische Stinkwanzen und Kanadische Goldrute seine Kleingartenparzelle erobern und ihm die Ernte streitig machen. Tapfer sagt er Monsterpflanzen und Mistviechern den Kampf an\, doch die unliebsamen Besucher denken gar nicht daran\, das Feld zu räumen. \nStefan Schwarz erzählt unterhaltsam von den tierischen und pflanzlichen blinden Passagieren des globalen Warenverkehrs\, ihren Schrullen und bewundernswerten Kräften. Das ultimative Trostbuch für alle\, deren Gärten auch schon überwuchert und kahl gefressen wurden.
URL:https://schwarzleser.de/termin/fiese-viecher-der-kleine-gartenversager-kehrt-zurueck-2/
LOCATION:Stadtbibliothek Damgarten\, Wasserstraße 34 a\, Ribnitz-Damgarten\, 18311
END:VEVENT
BEGIN:VEVENT
DTSTART;TZID=Europe/Helsinki:20260425T200000
DTEND;TZID=Europe/Helsinki:20260425T220000
DTSTAMP:20260421T155026
CREATED:20260316T182243Z
LAST-MODIFIED:20260316T182339Z
UID:100047-1777147200-1777154400@schwarzleser.de
SUMMARY:Bis ins Mark - Wie ich Krebs bekam und mein Leben aufräumte
DESCRIPTION:Als Stefan Schwarz mit Mitte Fünfzig die Diagnose Krebs erhält\, ist er fast erleichtert. Jetzt muss sich der bekennende Hypochonder wenigstens nicht mehr fürchten\, ihn zu bekommen. Schwarz kennt sich aus mit existentiellen Verwerfungen\, und als ein Mann der Komik und Selbstironie\, begibt er sich mit diesem Buch nicht nur auf eine Reise durch die Sonderwelten der onkologischen Therapie\, sondern auch auf die Nachtseite seines Lebens\, um die Zwänge und Niederlagen zu besichtigen\, die seinen Humor hervorbrachten. Ein Buch voller heiterer Klarheit über die Dinge des Lebens\, eine Wegbeschreibung auch für Menschen in ähnlicher Lage\, von einem Geschichtenerzähler\, der sich selbst eine neue Geschichte erzählen muss\, um die Kraft zu finden\, sich und nicht zuletzt seine Familie in eine „heilsamere“ Welt zu bringen. \n„Wer ein ehrliches\, ziemlich cooles\, amüsantes\, berührendes\, manchmal sogar ergreifendes\, sehr gut geschriebenes und wirklich interessantes Buch darüber sucht\, wie jemand wie Stefan Schwarz eigentlich so unterwegs ist\, wenn es mal ans Eingemachte geht\, der sollte dieses Buch unbedingt lesen.“ Tom Liehr
URL:https://schwarzleser.de/termin/bis-ins-mark-wie-ich-krebs-bekam-und-mein-leben-aufraeumte-7/
LOCATION:Kultur-und Festspielhaus Wittenberge\, Paul-Lincke-Platz 1\, Wittenberge\, 19322
END:VEVENT
BEGIN:VEVENT
DTSTART;TZID=Europe/Helsinki:20260521T193000
DTEND;TZID=Europe/Helsinki:20260521T213000
DTSTAMP:20260421T155026
CREATED:20260316T183452Z
LAST-MODIFIED:20260316T183452Z
UID:100050-1779391800-1779399000@schwarzleser.de
SUMMARY:Umsonst Epilierte aller Länder\, vereinigt Euch!
DESCRIPTION:Stefan Schwarz garantiert nicht jugendfreie Streifzüge durch die Weltgeschichte und Wissenschaft der Erotik. Ein Fest für alle Erwachsenen\, die schon immer wissen wollten\, wobei US-Vizepräsident Nelson Rockefeller seiner Sekretärin in den Rücken gefallen ist\, wann der erste erfolgreiche Sexstreik stattfand\, warum Frauen schneller Batterien in kleinen Geräten wechseln als Männer\, wieso man bei Kopfschmerzen unbedingt Sex haben sollte\, was eigentlich Gnadensex ist\, warum sich Napoleons Gattin nicht waschen durfte\, bevor er heimkam – und schließlich und überhaupt\, warum die Männer so sind wie sind\, obwohl sie doch von Frauen geboren wurden!
URL:https://schwarzleser.de/termin/umsonst-epilierte-aller-laender-vereinigt-euch-20/
LOCATION:Uckermärkische Bühnen Schwedt\, Berliner Straße 46/48\, Schwedt\, 16303
END:VEVENT
END:VCALENDAR